BEGIN:VCALENDAR
VERSION:2.0
PRODID:$page->getSiteName()
X-PUBLISHED-TTL:P1W
BEGIN:VEVENT
UID:69eab54d106d8
DTSTART;VALUE=DATE:20230119
SEQUENCE:0
TRANSP:OPAQUE
URL:https://www.iislafe.es/es/sociedad/eventos/382/horizon-europe-info-day
LOCATION:Slido
SUMMARY:Horizon Europe Info day
CLASS:PUBLIC
DESCRIPTION:Cluster 1 – ‘Health’

This info day aims to inform (pote
 ntial) applicants about topics included in the Cluster 1 &#39\;Health&#39\
 ; work programme of 2023

REGISTER
X-MICROSOFT-CDO-ALLDAYEVENT:TRUE
DTSTAMP:20260424T021157Z
END:VEVENT
END:VCALENDAR