BEGIN:VCALENDAR
VERSION:2.0
PRODID:$page->getSiteName()
X-PUBLISHED-TTL:P1W
BEGIN:VEVENT
UID:69ea5ba8a3d4a
DTSTART;VALUE=DATE:20231213
SEQUENCE:0
TRANSP:OPAQUE
URL:https://www.iislafe.es/es/sociedad/eventos/433/miercoles-innovadores-20
 23-vi-internacionalizando-desde-el-iis-la-fe
LOCATION:Online
SUMMARY:Miércoles Innovadores 2023 (VI). Internacionalizando desde el IIS 
 La Fe
CLASS:PUBLIC
DESCRIPTION:Oficina de Internacional del IIS La Fe
Rita Diranzo

INSCRIPCI
 ÓN OBLIGATORIA
X-MICROSOFT-CDO-ALLDAYEVENT:TRUE
DTSTAMP:20260423T194928Z
END:VEVENT
END:VCALENDAR