BEGIN:VCALENDAR
VERSION:2.0
PRODID:$page->getSiteName()
X-PUBLISHED-TTL:P1W
BEGIN:VEVENT
UID:69e6a98b52be9
DTSTART;VALUE=DATE:20231003
SEQUENCE:0
TRANSP:OPAQUE
URL:https://www.iislafe.es/es/sociedad/eventos/442/curso-de-estadistica-int
 roduccion-a-r-ii-edicion
LOCATION:Classroom
SUMMARY:Curso de Estadística: Introducción a R [II EDICIÓN]
CLASS:PUBLIC
DESCRIPTION:El objetivo de este curso\, impartido por Ana Navarro Quiles\, 
 profesora ayudante doctor del Departamento de Estadística e Investigació
 n Operativa\, Universitat de València (UV)\, es realizar un repaso por aq
 uellos conceptos de probabilidad y estadística básicos. Gracias a esta f
 ormación los asistentes aprenderán a analizar un conjunto de datos usand
 o el programa se software libre R. En particular\, el alumnado se formará
  en el uso de la interfaz R-Commander.

La formación se llevará a cabo l
 os días: 3 - 5 - 10 - 17 - 19 - 24 - 26 y 31 octubre en horario de: 14:3
 0h a 17:00h
(*) es imprescindible asisitir al 80% de las horas.
 

INSCRI
 PCIONES
X-MICROSOFT-CDO-ALLDAYEVENT:TRUE
DTSTAMP:20260421T003243Z
END:VEVENT
END:VCALENDAR