BEGIN:VCALENDAR
VERSION:2.0
PRODID:$page->getSiteName()
X-PUBLISHED-TTL:P1W
BEGIN:VEVENT
UID:69e67a097a105
DTSTART;VALUE=DATE:20231116
SEQUENCE:0
TRANSP:OPAQUE
URL:https://www.iislafe.es/es/sociedad/eventos/455/la-carrera-investigadora
 -en-el-sistema-nacional-de-salud
LOCATION:Auditórium
SUMMARY:La carrera investigadora en el Sistema Nacional de Salud
CLASS:PUBLIC
DESCRIPTION:El presidente de la Junta Directiva de la Asociacion Nacional 
 de Investigadores Hospitalarios\, Francisco del Castillo\, imparte la char
 la ‘La carrera investigadora en el Sistema Nacional de Salud’\, sobre 
 cuestiones relacionadas con la investigación en el SNS

El aforo es limit
 ado y la inscripción es obligatoria. 

Asimismo\, también se podrá seg
 uir online
X-MICROSOFT-CDO-ALLDAYEVENT:TRUE
DTSTAMP:20260420T211001Z
END:VEVENT
END:VCALENDAR