BEGIN:VCALENDAR
VERSION:2.0
PRODID:$page->getSiteName()
X-PUBLISHED-TTL:P1W
BEGIN:VEVENT
UID:69ea83636da45
DTSTART;VALUE=DATE:20240131
SEQUENCE:0
TRANSP:OPAQUE
URL:https://www.iislafe.es/es/sociedad/eventos/462/sesiones-de-iniciacion-a
 -la-citometria-separacion-celular-y-al-uso-del-citometro-de-flujo
LOCATION:Classroom
SUMMARY:Sesiones de iniciación a la citometría/separación celular y al u
 so del citómetro de flujo
CLASS:PUBLIC
DESCRIPTION:Siguiendo con el plan de formación en citometría iniciado la 
 pasada anualidad\, la Plataforma de Biología Celular del IIS La Fe\, ofre
 cerá a partir del próximo 31 de enero y durante el mes de febrero\, cinc
 o sesiones formativas de iniciación a la citometría y al uso del citóme
 tro de flujo\, en las que también se abordaran las posibilidades que ofre
 ce la técnica de separación celular. Las sesiones estarán dirigidas a p
 ersonal investigador y técnico contratado en los grupos de investigación
  del IIS La Fe.

Con el fin de obtener un mayor aprovechamiento de la form
 ación\, las sesiones se realizarán en grupos reducidos\, con un máximo 
 de diez personas por sesión.

Será imprescindible la inscripción envian
 do un correo electrónico a pili_marin@iislafe.es

Todos los inscritos rec
 ibirán un correo de confirmación especificando el día asignado para su 
 sesión formativa.
Para dicha asignación de fecha\, se respetará el orde
 n de inscripción.
X-MICROSOFT-CDO-ALLDAYEVENT:TRUE
DTSTAMP:20260423T223859Z
END:VEVENT
BEGIN:VEVENT
UID:69ea83636dcd3
DTSTART;VALUE=DATE:20240213
SEQUENCE:0
TRANSP:OPAQUE
URL:https://www.iislafe.es/es/sociedad/eventos/462/sesiones-de-iniciacion-a
 -la-citometria-separacion-celular-y-al-uso-del-citometro-de-flujo
LOCATION:Classroom
SUMMARY:Sesiones de iniciación a la citometría/separación celular y al u
 so del citómetro de flujo
CLASS:PUBLIC
DESCRIPTION:Siguiendo con el plan de formación en citometría iniciado la 
 pasada anualidad\, la Plataforma de Biología Celular del IIS La Fe\, ofre
 cerá a partir del próximo 31 de enero y durante el mes de febrero\, cinc
 o sesiones formativas de iniciación a la citometría y al uso del citóme
 tro de flujo\, en las que también se abordaran las posibilidades que ofre
 ce la técnica de separación celular. Las sesiones estarán dirigidas a p
 ersonal investigador y técnico contratado en los grupos de investigación
  del IIS La Fe.

Con el fin de obtener un mayor aprovechamiento de la form
 ación\, las sesiones se realizarán en grupos reducidos\, con un máximo 
 de diez personas por sesión.

Será imprescindible la inscripción envian
 do un correo electrónico a pili_marin@iislafe.es

Todos los inscritos rec
 ibirán un correo de confirmación especificando el día asignado para su 
 sesión formativa.
Para dicha asignación de fecha\, se respetará el orde
 n de inscripción.
X-MICROSOFT-CDO-ALLDAYEVENT:TRUE
DTSTAMP:20260423T223859Z
END:VEVENT
BEGIN:VEVENT
UID:69ea83636ddcc
DTSTART;VALUE=DATE:20240220
SEQUENCE:0
TRANSP:OPAQUE
URL:https://www.iislafe.es/es/sociedad/eventos/462/sesiones-de-iniciacion-a
 -la-citometria-separacion-celular-y-al-uso-del-citometro-de-flujo
LOCATION:Classroom
SUMMARY:Sesiones de iniciación a la citometría/separación celular y al u
 so del citómetro de flujo
CLASS:PUBLIC
DESCRIPTION:Siguiendo con el plan de formación en citometría iniciado la 
 pasada anualidad\, la Plataforma de Biología Celular del IIS La Fe\, ofre
 cerá a partir del próximo 31 de enero y durante el mes de febrero\, cinc
 o sesiones formativas de iniciación a la citometría y al uso del citóme
 tro de flujo\, en las que también se abordaran las posibilidades que ofre
 ce la técnica de separación celular. Las sesiones estarán dirigidas a p
 ersonal investigador y técnico contratado en los grupos de investigación
  del IIS La Fe.

Con el fin de obtener un mayor aprovechamiento de la form
 ación\, las sesiones se realizarán en grupos reducidos\, con un máximo 
 de diez personas por sesión.

Será imprescindible la inscripción envian
 do un correo electrónico a pili_marin@iislafe.es

Todos los inscritos rec
 ibirán un correo de confirmación especificando el día asignado para su 
 sesión formativa.
Para dicha asignación de fecha\, se respetará el orde
 n de inscripción.
X-MICROSOFT-CDO-ALLDAYEVENT:TRUE
DTSTAMP:20260423T223859Z
END:VEVENT
BEGIN:VEVENT
UID:69ea83636dea9
DTSTART;VALUE=DATE:20240227
SEQUENCE:0
TRANSP:OPAQUE
URL:https://www.iislafe.es/es/sociedad/eventos/462/sesiones-de-iniciacion-a
 -la-citometria-separacion-celular-y-al-uso-del-citometro-de-flujo
LOCATION:Classroom
SUMMARY:Sesiones de iniciación a la citometría/separación celular y al u
 so del citómetro de flujo
CLASS:PUBLIC
DESCRIPTION:Siguiendo con el plan de formación en citometría iniciado la 
 pasada anualidad\, la Plataforma de Biología Celular del IIS La Fe\, ofre
 cerá a partir del próximo 31 de enero y durante el mes de febrero\, cinc
 o sesiones formativas de iniciación a la citometría y al uso del citóme
 tro de flujo\, en las que también se abordaran las posibilidades que ofre
 ce la técnica de separación celular. Las sesiones estarán dirigidas a p
 ersonal investigador y técnico contratado en los grupos de investigación
  del IIS La Fe.

Con el fin de obtener un mayor aprovechamiento de la form
 ación\, las sesiones se realizarán en grupos reducidos\, con un máximo 
 de diez personas por sesión.

Será imprescindible la inscripción envian
 do un correo electrónico a pili_marin@iislafe.es

Todos los inscritos rec
 ibirán un correo de confirmación especificando el día asignado para su 
 sesión formativa.
Para dicha asignación de fecha\, se respetará el orde
 n de inscripción.
X-MICROSOFT-CDO-ALLDAYEVENT:TRUE
DTSTAMP:20260423T223859Z
END:VEVENT
BEGIN:VEVENT
UID:69ea83636df84
DTSTART;VALUE=DATE:20240305
SEQUENCE:0
TRANSP:OPAQUE
URL:https://www.iislafe.es/es/sociedad/eventos/462/sesiones-de-iniciacion-a
 -la-citometria-separacion-celular-y-al-uso-del-citometro-de-flujo
LOCATION:Classroom
SUMMARY:Sesiones de iniciación a la citometría/separación celular y al u
 so del citómetro de flujo
CLASS:PUBLIC
DESCRIPTION:Siguiendo con el plan de formación en citometría iniciado la 
 pasada anualidad\, la Plataforma de Biología Celular del IIS La Fe\, ofre
 cerá a partir del próximo 31 de enero y durante el mes de febrero\, cinc
 o sesiones formativas de iniciación a la citometría y al uso del citóme
 tro de flujo\, en las que también se abordaran las posibilidades que ofre
 ce la técnica de separación celular. Las sesiones estarán dirigidas a p
 ersonal investigador y técnico contratado en los grupos de investigación
  del IIS La Fe.

Con el fin de obtener un mayor aprovechamiento de la form
 ación\, las sesiones se realizarán en grupos reducidos\, con un máximo 
 de diez personas por sesión.

Será imprescindible la inscripción envian
 do un correo electrónico a pili_marin@iislafe.es

Todos los inscritos rec
 ibirán un correo de confirmación especificando el día asignado para su 
 sesión formativa.
Para dicha asignación de fecha\, se respetará el orde
 n de inscripción.
X-MICROSOFT-CDO-ALLDAYEVENT:TRUE
DTSTAMP:20260423T223859Z
END:VEVENT
BEGIN:VEVENT
UID:69ea83636e05c
DTSTART;VALUE=DATE:20240312
SEQUENCE:0
TRANSP:OPAQUE
URL:https://www.iislafe.es/es/sociedad/eventos/462/sesiones-de-iniciacion-a
 -la-citometria-separacion-celular-y-al-uso-del-citometro-de-flujo
LOCATION:Classroom
SUMMARY:Sesiones de iniciación a la citometría/separación celular y al u
 so del citómetro de flujo
CLASS:PUBLIC
DESCRIPTION:Siguiendo con el plan de formación en citometría iniciado la 
 pasada anualidad\, la Plataforma de Biología Celular del IIS La Fe\, ofre
 cerá a partir del próximo 31 de enero y durante el mes de febrero\, cinc
 o sesiones formativas de iniciación a la citometría y al uso del citóme
 tro de flujo\, en las que también se abordaran las posibilidades que ofre
 ce la técnica de separación celular. Las sesiones estarán dirigidas a p
 ersonal investigador y técnico contratado en los grupos de investigación
  del IIS La Fe.

Con el fin de obtener un mayor aprovechamiento de la form
 ación\, las sesiones se realizarán en grupos reducidos\, con un máximo 
 de diez personas por sesión.

Será imprescindible la inscripción envian
 do un correo electrónico a pili_marin@iislafe.es

Todos los inscritos rec
 ibirán un correo de confirmación especificando el día asignado para su 
 sesión formativa.
Para dicha asignación de fecha\, se respetará el orde
 n de inscripción.
X-MICROSOFT-CDO-ALLDAYEVENT:TRUE
DTSTAMP:20260423T223859Z
END:VEVENT
END:VCALENDAR