BEGIN:VCALENDAR
VERSION:2.0
PRODID:$page->getSiteName()
X-PUBLISHED-TTL:P1W
BEGIN:VEVENT
UID:69e609742e252
DTSTART;VALUE=DATE:20240918
SEQUENCE:0
TRANSP:OPAQUE
URL:https://www.iislafe.es/es/sociedad/eventos/496/miercoles-innovadores-20
 24-sesion-1-como-horizonte-europa-impulsa-estrategias-innovadoras-en-la-ue
 -una-introduccion-al-pilar-2-europa-innovadora
LOCATION:Online
SUMMARY:MIÉRCOLES INNOVADORES 2024 | Sesión 1: ¿Cómo Horizonte Europa i
 mpulsa estrategias innovadoras en la UE? Una introducción al pilar 2: Eur
 opa Innovadora
CLASS:PUBLIC
DESCRIPTION:Ponente: Susana Peñalver (ADEIT-Universitat de Valéncia)

INS
 CRIPCIÓN OBLIGATORIA
X-MICROSOFT-CDO-ALLDAYEVENT:TRUE
DTSTAMP:20260420T130940Z
END:VEVENT
END:VCALENDAR