BEGIN:VCALENDAR
VERSION:2.0
PRODID:$page->getSiteName()
X-PUBLISHED-TTL:P1W
BEGIN:VEVENT
UID:69ed80d2bee8f
DTSTART;VALUE=DATE:20241004
SEQUENCE:0
TRANSP:OPAQUE
URL:https://www.iislafe.es/es/sociedad/eventos/499/regenerative-therapies-t
 o-treat-infertility-of-endometrial-origin-from-basic-to-clinics
LOCATION:Auditórium
SUMMARY:Regenerative therapies to treat infertility of endometrial origin: 
 from basic to clinics
CLASS:PUBLIC
DESCRIPTION:Doctorando: Adolfo Rodríguez Eguren
Dirigida por: Dra. Irene C
 ervelló Alcaraz y Dr. Vicente Serra Serra

Grupo de Investigación en Bi
 ología Reproductiva y Bioingeniería en Reproducción Humana
X-MICROSOFT-CDO-ALLDAYEVENT:TRUE
DTSTAMP:20260426T050450Z
END:VEVENT
END:VCALENDAR