BEGIN:VCALENDAR
VERSION:2.0
PRODID:$page->getSiteName()
X-PUBLISHED-TTL:P1W
BEGIN:VEVENT
UID:69e5c140af758
DTSTART;VALUE=DATE:20250403
SEQUENCE:0
TRANSP:OPAQUE
URL:https://www.iislafe.es/es/sociedad/eventos/549/discover-innovative-pers
 pectives-on-biology-through-single-cell-amp-spatial-techniques
LOCATION:Auditórium
SUMMARY:Discover Innovative Perspectives on Biology Through Single-Cell &am
 p\; Spatial Techniques
CLASS:PUBLIC
DESCRIPTION:This session will highlight the power of 10x Genomics technolog
 ies in uncovering cellular diversity and gene expression at an unprecedent
 ed resolution. We will explore the principles of single-cell RNA sequencin
 g\, its integration with spatial techniques\, and how these tools are tran
 sforming research in fields such as oncology\, immunology\, and neuroscien
 ce.

Speaker:

Ana Borges
PhD Field Application Specialist & Scientific Ad
 visor at Bonsai Lab.

REGISTER HERE
X-MICROSOFT-CDO-ALLDAYEVENT:TRUE
DTSTAMP:20260420T080136Z
END:VEVENT
END:VCALENDAR