BEGIN:VCALENDAR
VERSION:2.0
PRODID:$page->getSiteName()
X-PUBLISHED-TTL:P1W
BEGIN:VEVENT
UID:69e5994719378
DTSTART;VALUE=DATE:20260123
SEQUENCE:0
TRANSP:OPAQUE
URL:https://www.iislafe.es/es/sociedad/eventos/619/analisis-del-cluster-mir
 -144-451-y-caracterizacion-funcional-del-mir-4732-3p-en-enfermedades-cardi
 ovasculares
LOCATION:Auditórium
SUMMARY:Análisis del clúster miR-144/451 y caracterización funcional del
  miR-4732-3p en enfermedades cardiovasculares
CLASS:PUBLIC
DESCRIPTION:Doctoranda 
Marta Selva Roldán

Directoras de la tesis
Dra. 
 Pilar Sepúlveda
Dra. Imelda Ontoria
Dra. Inmaculada García

Grupo de I
 nvestigación de Regeneración y Trasplante Cardíaco (RETRACAR)
X-MICROSOFT-CDO-ALLDAYEVENT:TRUE
DTSTAMP:20260420T051103Z
END:VEVENT
END:VCALENDAR