BEGIN:VCALENDAR
VERSION:2.0
PRODID:$page->getSiteName()
X-PUBLISHED-TTL:P1W
BEGIN:VEVENT
UID:69e55e2d16582
DTSTART;VALUE=DATE:20260120
SEQUENCE:0
TRANSP:OPAQUE
URL:https://www.iislafe.es/es/sociedad/eventos/624/curso-plan-medidas-antif
 raude-especial-incidencia-en-la-contratacion-publica
LOCATION:Auditórium
SUMMARY:Curso Plan Medidas Antifraude. Especial incidencia en la contrataci
 ón pública
CLASS:PUBLIC
DESCRIPTION:Formación dirigida a: Personal de gestión e IP’s y gestore
 s de compras. Para todos aquellos que pretendan contratar servicios o sumi
 nistros.
Impartida por: KPMG Abogados\, S.L.P
Hasta completar aforo del A
 uditórium

INSCRIPCIONES

Martes 20 de enero de 11:00 a 14:00 horas
X-MICROSOFT-CDO-ALLDAYEVENT:TRUE
DTSTAMP:20260420T005853Z
END:VEVENT
END:VCALENDAR