BEGIN:VCALENDAR
VERSION:2.0
PRODID:$page->getSiteName()
X-PUBLISHED-TTL:P1W
BEGIN:VEVENT
UID:69ed3910655a5
DTSTART;VALUE=DATE:20160607
SEQUENCE:0
TRANSP:OPAQUE
URL:https://www.iislafe.es/es/sociedad/eventos/64/nutraceuticos-y-retinosis
 -pigmentaria
LOCATION:Auditorio del IIS La Fe (Torre A)
SUMMARY:Nutracéuticos y Retinosis Pigmentaria
CLASS:PUBLIC
DESCRIPTION:El martes 7 de junio\, jornada sobre Nutracéuticos y Retinosis
  Pigmentaria.
X-MICROSOFT-CDO-ALLDAYEVENT:TRUE
DTSTAMP:20260425T235840Z
END:VEVENT
END:VCALENDAR