BEGIN:VCALENDAR
VERSION:2.0
PRODID:$page->getSiteName()
X-PUBLISHED-TTL:P1W
BEGIN:VEVENT
UID:69ea052437a3f
DTSTART;VALUE=DATE:20160609
SEQUENCE:0
TRANSP:OPAQUE
URL:https://www.iislafe.es/es/sociedad/eventos/66/retos-y-oportunidades-par
 a-la-investigacion-clinica-independiente
LOCATION:Salón de Actos de la Residencia General del Hospital Universitari
 o 12 de Octubre de Madrid  (Avenida de Córdoba\, s/n - 28041 Madrid)
SUMMARY:Retos y Oportunidades para la Investigación Clínica Independiente
CLASS:PUBLIC
DESCRIPTION:El próximo jueves 9 de junio el Instituto de Investigación Ca
 rlos III ha organizado la jornada \"Retos y oportunidades para la investig
 ación clínica independiente\" con el objetivo de difundir las capacidade
 s del SCReN (Spanish Clinical Research Network) como RED de soporte a la i
 nvestigación.
X-MICROSOFT-CDO-ALLDAYEVENT:TRUE
DTSTAMP:20260423T134020Z
END:VEVENT
END:VCALENDAR