BEGIN:VCALENDAR
VERSION:2.0
PRODID:$page->getSiteName()
X-PUBLISHED-TTL:P1W
BEGIN:VEVENT
UID:69e791de2bbc4
DTSTART;VALUE=DATE:20161103
SEQUENCE:0
TRANSP:OPAQUE
DTEND;VALUE=DATE:20161104
URL:https://www.iislafe.es/es/sociedad/eventos/87/plataformas-internacional
 es-de-investigacion-biomedica-y-su-valor-en-el-estudio-de-las-enfermedades
 -raras
LOCATION:Fundación Ramón Areces (Madrid)
SUMMARY:Plataformas Internacionales de Investigación Biomédica y su Valor
  en el Estudio de las Enfermedades Raras
CLASS:PUBLIC
DESCRIPTION:Los últimos avances de las plataformas nacionales e internacio
 nales de información\, biobancos\, bioinformática... se expondrán en el
  Simposio Internacional \"Plataformas Internacionales de Investigación Bi
 omédica y su Valor en el Estudio de las Enfermedades Raras\" los próximo
 s 3 y 4 de noviembre en la Fundación Ramón Areces (Madrid).

Se trata de
  un evento\, organizado desde el CIBERER con el apoyo de la citada fundaci
 ón\, cuya coordinación científica corre a cargo de los Dres. José Mar
 ía Millán\, director del IIS La Fe\, Isabel Varela-Nieto\, Joaquín Dopa
 zo y Francisca Sánchez.
X-MICROSOFT-CDO-ALLDAYEVENT:TRUE
DTSTAMP:20260421T170358Z
END:VEVENT
END:VCALENDAR