BEGIN:VCALENDAR
VERSION:2.0
PRODID:$page->getSiteName()
X-PUBLISHED-TTL:P1W
BEGIN:VEVENT
UID:69ed5c8f4b289
DTSTART;VALUE=DATE:20180509
SEQUENCE:0
TRANSP:OPAQUE
DTEND;VALUE=DATE:20180510
URL:https://www.iislafe.es/va/actualitat/actes/145/i-curso-teorico-practico
 -de-la-secuenciacion-masiva-en-el-diagnostico-de-las-neoplasias-hematologi
 cas
LOCATION:Hospital Universitari i Politècnic La Fe
SUMMARY:I Curso teórico-práctico de la secuenciación masiva en el diagn
 óstico de las neoplasias hematológicas
CLASS:PUBLIC
DESCRIPTION:Los días 09 y 10 de mayo se celebrará el I Curso teórico-pr
 áctico de la secuenciación masiva en el diagnóstico de las neoplasias h
 ematológicas\, coordinado por la Dra. Esperanza Such.
X-MICROSOFT-CDO-ALLDAYEVENT:TRUE
DTSTAMP:20260426T023007Z
END:VEVENT
END:VCALENDAR