BEGIN:VCALENDAR
VERSION:2.0
PRODID:$page->getSiteName()
X-PUBLISHED-TTL:P1W
BEGIN:VEVENT
UID:69e67e53c6aaa
DTSTART;VALUE=DATE:20180704
SEQUENCE:0
TRANSP:OPAQUE
URL:https://www.iislafe.es/va/actualitat/actes/168/seminarios-ibv-molecular
 -biology-of-cortical-circuits-schizophrenia-and-re-wiring-pietro-fazzari
LOCATION:Salón de Actos del IBV
SUMMARY:Seminarios IBV: Molecular biology of cortical circuits: Schizophren
 ia and Re‐wiring. Pietro Fazzari
CLASS:PUBLIC
DESCRIPTION:Seminario: Molecular biology of cortical circuits: Schizophreni
 a and Re‐wiring. Imparte el seminario Pietro Fazzari del Centro de Inve
 stigación Príncipe Felipe. 
X-MICROSOFT-CDO-ALLDAYEVENT:TRUE
DTSTAMP:20260420T212819Z
END:VEVENT
END:VCALENDAR