BEGIN:VCALENDAR
VERSION:2.0
PRODID:$page->getSiteName()
X-PUBLISHED-TTL:P1W
BEGIN:VEVENT
UID:69eb721b2af78
DTSTART;VALUE=DATE:20180928
SEQUENCE:0
TRANSP:OPAQUE
URL:https://www.iislafe.es/va/actualitat/actes/177/celebra-la-ciencia-noche
 -europea-de-los-investigadores-en-el-instituto-de-investigacion-sanitaria-
 la-fe
LOCATION:IIS La Fe
SUMMARY:Celebra la ciencia. Noche Europea de los Investigadores en el Insti
 tuto de Investigación Sanitaria La Fe
CLASS:PUBLIC
DESCRIPTION:Noche de la Investigación Europea en el Instituto de Investiga
 ción Sanitaria La Fe.
X-MICROSOFT-CDO-ALLDAYEVENT:TRUE
DTSTAMP:20260424T153731Z
END:VEVENT
END:VCALENDAR