BEGIN:VCALENDAR
VERSION:2.0
PRODID:$page->getSiteName()
X-PUBLISHED-TTL:P1W
BEGIN:VEVENT
UID:69e743f66bd00
DTSTART;VALUE=DATE:20190625
SEQUENCE:0
TRANSP:OPAQUE
URL:https://www.iislafe.es/va/actualitat/actes/254/estudio-de-las-implicaci
 ones-de-la-via-de-senalizacion-de-notch-mediada-por-exosomas-en-cardiorege
 neracion-y-cancer
LOCATION:Centro de Investigación Príncipe Felipe
SUMMARY:Estudio de las implicaciones de la vía de señalización de Notch 
 mediada por exosomas en cardioregeneración y cáncer
CLASS:PUBLIC
DESCRIPTION:Defensa de la tesis doctoral de Hernán González-King Garibott
 i\, del Grupo de Investigación en Regeneración y Trasplante Cardíaco-RE
 TRACAR\, con título \"Estudio de las Implicaciones de la Vía de Señali
 zación de Notch Mediada por Exosomas en Cardioregeneración y Cáncer\" e
 n el salón de actos del Centro de Investigación Príncipe Felipe de Vale
 ncia el 25 de Junio a la 13:00.
X-MICROSOFT-CDO-ALLDAYEVENT:TRUE
DTSTAMP:20260421T113134Z
END:VEVENT
END:VCALENDAR