BEGIN:VCALENDAR
VERSION:2.0
PRODID:$page->getSiteName()
X-PUBLISHED-TTL:P1W
BEGIN:VEVENT
UID:69e7750bdaf99
DTSTART;VALUE=DATE:20190923
SEQUENCE:0
TRANSP:OPAQUE
DTEND;VALUE=DATE:20190925
URL:https://www.iislafe.es/va/actualitat/actes/261/modulo-7s-buenas-practic
 as-clinicas-en-investigacion-11a-edicion-septiembre-2019
LOCATION:Aula H009\, Torre H\, Hospital La Fe
SUMMARY:Módulo 7S: Buenas Prácticas Clínicas en Investigación (11ª Edi
 ción - Septiembre 2019)
CLASS:PUBLIC
DESCRIPTION:El objetivo del curso es estimular y facilitar el desarrollo de
  una investigación clínica de calidad y excelencia\, mejorando y actuali
 zando los conocimientos en la normativa de Buenas Prácticas Clínicas del
  personal investigador y del resto de personal involucrado en la puesta en
  marcha y realización de Estudios Clínicos\, así como\, de las Directiv
 as Europeas y la normativa nacional vigente.
X-MICROSOFT-CDO-ALLDAYEVENT:TRUE
DTSTAMP:20260421T150059Z
END:VEVENT
END:VCALENDAR