BEGIN:VCALENDAR
VERSION:2.0
PRODID:$page->getSiteName()
X-PUBLISHED-TTL:P1W
BEGIN:VEVENT
UID:69e74a7fe700c
DTSTART;VALUE=DATE:20190926
SEQUENCE:0
TRANSP:OPAQUE
DTEND;VALUE=DATE:20190927
URL:https://www.iislafe.es/va/actualitat/actes/262/ii-valensicles
LOCATION:Centro de Investigación Príncipe Felipe de Valencia
SUMMARY:II Valensicles
CLASS:PUBLIC
X-MICROSOFT-CDO-ALLDAYEVENT:TRUE
DTSTAMP:20260421T115927Z
END:VEVENT
END:VCALENDAR