BEGIN:VCALENDAR
VERSION:2.0
PRODID:$page->getSiteName()
X-PUBLISHED-TTL:P1W
BEGIN:VEVENT
UID:69e66262c53bf
DTSTART;VALUE=DATE:20191004
SEQUENCE:0
TRANSP:OPAQUE
URL:https://www.iislafe.es/va/actualitat/actes/269/wibec-final-conference
LOCATION:Salón de Actos. Torre H. Planta Baja. Hospital Universitari i Pol
 itècnic La Fe de Valencia.
SUMMARY:Wibec Final Conference
CLASS:PUBLIC
X-MICROSOFT-CDO-ALLDAYEVENT:TRUE
DTSTAMP:20260420T192906Z
END:VEVENT
END:VCALENDAR