BEGIN:VCALENDAR
VERSION:2.0
PRODID:$page->getSiteName()
X-PUBLISHED-TTL:P1W
BEGIN:VEVENT
UID:69e9cf21875c0
DTSTART;VALUE=DATE:20191120
SEQUENCE:0
TRANSP:OPAQUE
URL:https://www.iislafe.es/va/actualitat/actes/282/i-encuentro-investigacio
 n-clinica-entre-el-iis-la-fe-y-roche-farma
LOCATION:Auditorium de la planta baja de la torre A
SUMMARY:I Encuentro Investigación Clínica entre el IIS La Fe y Roche Farm
 a
CLASS:PUBLIC
DESCRIPTION:El objetivo de este primer Encuentro es potenciar la colaboraci
 ón en investigación clínica entre investigadores de diferentes especial
 idades sanitarias y\, además\, que sirva como foro de comunicación e int
 ercambio de ideas que permitan encontrar sinergias que ayuden a mejorar la
  colaboración entre investigadores e industria farmacéutica.
X-MICROSOFT-CDO-ALLDAYEVENT:TRUE
DTSTAMP:20260423T094953Z
END:VEVENT
END:VCALENDAR