BEGIN:VCALENDAR
VERSION:2.0
PRODID:$page->getSiteName()
X-PUBLISHED-TTL:P1W
BEGIN:VEVENT
UID:69e976d51406e
DTSTART;VALUE=DATE:20200228
SEQUENCE:0
TRANSP:OPAQUE
DTEND;VALUE=DATE:20200229
URL:https://www.iislafe.es/va/actualitat/actes/299/ii-congreso-de-ciencia-f
 eminismo-y-masculinidades-cicfem
LOCATION:Universitat Politècnica de València
SUMMARY:II Congreso de Ciencia\, Feminismo y  Masculinidades (CICFEM)
CLASS:PUBLIC
DESCRIPTION:El marco general de este congreso es poder ofrecer un espacio d
 e diálogo e investigación de las diferentes disciplinas científicas exi
 stentes vinculadas a las líneas de trabajo marcadas por los Objetivos d
 e Desarrollo Sostenible (ODS) de las Naciones Unidas para la Estrategia 2
 030\, desde una perspectiva de género\, igualdad y superación de la vio
 lencia. En el congreso participarán especialistas en la diversidad de cam
 pos científicos con la finalidad de profundizar y aportar evidencias que 
 traten específicamente sobre feminismo y masculinidades\, pero también s
 obre las aportaciones que las mujeres estamos haciendo para mejorar la soc
 iedad y que impulsen la presencia de la mujer en el relato científico pre
 sente y futuro.

Un congreso dirigido a personas investigadoras de todas 
 las disciplinas científicas que pretende contribuir en la investigación 
 actual en todas las ciencias\, para aportar evidencias que contribuyan a l
 a investigación\, al mismo tiempo que\, al feminismo y masculinidades\, y
  lograr así un mayor impacto social.
X-MICROSOFT-CDO-ALLDAYEVENT:TRUE
DTSTAMP:20260423T033309Z
END:VEVENT
END:VCALENDAR