BEGIN:VCALENDAR
VERSION:2.0
PRODID:$page->getSiteName()
X-PUBLISHED-TTL:P1W
BEGIN:VEVENT
UID:69eb78826f3c0
DTSTART;VALUE=DATE:20200428
SEQUENCE:0
TRANSP:OPAQUE
DTEND;VALUE=DATE:20200430
URL:https://www.iislafe.es/va/actualitat/actes/302/8th-galenus-internationa
 l-workshop-valencia-the-shape-of-things-to-come-drug-delivery-systems-from
 -head-to-toe
LOCATION:Burjassot\, Valencia
SUMMARY:8th Galenus International Workshop Valencia  “The shape of things
  to come - Drug delivery systems from head to toe”
CLASS:PUBLIC
DESCRIPTION:On behalf of the Scientific Committee of the Department of Phar
 macy and Pharmaceutical Technology and Parasitology of the University of V
 alencia\, I cordially invite scientists\, young researchers and profession
 als from academia\, industry and research institutions to attend the 8th G
 alenus International Workshop in Valencia
X-MICROSOFT-CDO-ALLDAYEVENT:TRUE
DTSTAMP:20260424T160450Z
END:VEVENT
END:VCALENDAR