BEGIN:VCALENDAR
VERSION:2.0
PRODID:$page->getSiteName()
X-PUBLISHED-TTL:P1W
BEGIN:VEVENT
UID:69e923c0bafa3
DTSTART;VALUE=DATE:20210326
SEQUENCE:0
TRANSP:OPAQUE
URL:https://www.iislafe.es/va/actualitat/actes/313/jornada-de-formacion-cit
 ometro-contador-celular-automatico
LOCATION:Meeting Room 3
SUMMARY:Jornada de formación citómetro-contador celular automático
CLASS:PUBLIC
DESCRIPTION:Las Unidades de Cultivos Celulares y Microscopía vuelven a im
 partir  otra jornada de formación del nuevo equipamiento adquirido con 
 fondos feder.

Más información en este enlace
X-MICROSOFT-CDO-ALLDAYEVENT:TRUE
DTSTAMP:20260422T213840Z
END:VEVENT
END:VCALENDAR