BEGIN:VCALENDAR
VERSION:2.0
PRODID:$page->getSiteName()
X-PUBLISHED-TTL:P1W
BEGIN:VEVENT
UID:69e573bd41db6
DTSTART;VALUE=DATE:20210923
SEQUENCE:0
TRANSP:OPAQUE
DTEND;VALUE=DATE:20210924
URL:https://www.iislafe.es/va/actualitat/actes/327/viii-jornada-de-actualiz
 acion-en-medicina-reproductiva-para-residentes-y-facultativos-especialista
 s-23-y-24-de-septiembre
LOCATION:Hospital La Fe
SUMMARY:VIII Jornada de Actualización en Medicina Reproductiva para Reside
 ntes y Facultativos Especialistas (23 y 24 de septiembre)
CLASS:PUBLIC
X-MICROSOFT-CDO-ALLDAYEVENT:TRUE
DTSTAMP:20260420T023053Z
END:VEVENT
END:VCALENDAR