BEGIN:VCALENDAR
VERSION:2.0
PRODID:$page->getSiteName()
X-PUBLISHED-TTL:P1W
BEGIN:VEVENT
UID:69e5e4629d76d
DTSTART;VALUE=DATE:20221108
SEQUENCE:0
TRANSP:OPAQUE
URL:https://www.iislafe.es/va/actualitat/actes/366/jaima-2022-imagen-medica
 -hepatopatia-cronica-y-hepatocarcinoma
LOCATION:Salón de Actos Hospital Universitari i Politècnic La Fe
SUMMARY:JAIMA 2022: Imagen Médica\, Hepatopatía Crónica y Hepatocarcinom
 a
CLASS:PUBLIC
X-MICROSOFT-CDO-ALLDAYEVENT:TRUE
DTSTAMP:20260420T103130Z
END:VEVENT
END:VCALENDAR