BEGIN:VCALENDAR
VERSION:2.0
PRODID:$page->getSiteName()
X-PUBLISHED-TTL:P1W
BEGIN:VEVENT
UID:69ea8c26335f3
DTSTART;VALUE=DATE:20230307
SEQUENCE:0
TRANSP:OPAQUE
URL:https://www.iislafe.es/va/actualitat/actes/387/taller-de-entrevista-par
 a-responsables
LOCATION:Torre A
SUMMARY:Taller de entrevista para responsables
CLASS:PUBLIC
X-MICROSOFT-CDO-ALLDAYEVENT:TRUE
DTSTAMP:20260423T231622Z
END:VEVENT
END:VCALENDAR