BEGIN:VCALENDAR
VERSION:2.0
PRODID:$page->getSiteName()
X-PUBLISHED-TTL:P1W
BEGIN:VEVENT
UID:69e6efade9eba
DTSTART;VALUE=DATE:20230516
SEQUENCE:0
TRANSP:OPAQUE
URL:https://www.iislafe.es/va/actualitat/actes/390/taller-riesgos-psicosoci
 ales-acoso-psicologico
LOCATION:Torre A
SUMMARY:Taller Riesgos psicosociales: Acoso Psicológico
CLASS:PUBLIC
DESCRIPTION:Para responsables.
X-MICROSOFT-CDO-ALLDAYEVENT:TRUE
DTSTAMP:20260421T053157Z
END:VEVENT
END:VCALENDAR