BEGIN:VCALENDAR
VERSION:2.0
PRODID:$page->getSiteName()
X-PUBLISHED-TTL:P1W
BEGIN:VEVENT
UID:69e54a1de3578
DTSTART;VALUE=DATE:20230228
SEQUENCE:0
TRANSP:OPAQUE
URL:https://www.iislafe.es/va/actualitat/actes/397/rescue-of-ovarian-functi
 on-stem-cells-and-regenerative-factors
LOCATION:Auditórium
SUMMARY:Rescue of ovarian function: stem cells and regenerative factors
CLASS:PUBLIC
DESCRIPTION:Doctoranda: Maria Marchante Cuevas

Grupo de investigación en 
 Medicina Reproductiva

Directores: Prof. Antonio Pellicer Martinez y Dra. 
 Sonia Herraiz Raya
X-MICROSOFT-CDO-ALLDAYEVENT:TRUE
DTSTAMP:20260419T233317Z
END:VEVENT
END:VCALENDAR