BEGIN:VCALENDAR
VERSION:2.0
PRODID:$page->getSiteName()
X-PUBLISHED-TTL:P1W
BEGIN:VEVENT
UID:69e8b02e35abf
DTSTART;VALUE=DATE:20230428
SEQUENCE:0
TRANSP:OPAQUE
URL:https://www.iislafe.es/va/actualitat/actes/410/i-encuentro-sobre-invest
 igacion-e-innovacion-biomedica-en-la-comunitat-valenciana
LOCATION:Salón de Actos Hospital Universitari i Politècnic La Fe
SUMMARY:I ENCUENTRO SOBRE INVESTIGACIÓN E INNOVACIÓN BIOMÉDICA EN LA COM
 UNITAT VALENCIANA
CLASS:PUBLIC
DESCRIPTION:El objetivo de esta jornada es dar a conocer la actividad de lo
 s institutos de investigación sanitaria y centros de investigación de la
  Comunitat Valenciana y compartir buenas prácticas y casos de éxito en l
 a gestión y desarrollo de la investigación\, la innovación y la relaci
 ón con la sociedad.

La jornada se desarrollará a través de tres sesion
 es sobre Investigación\, Innovación y Transferncia y RRI (Investigació
 n e Innovación Responsables)

PROGRAMA E INSCRIPCIONES
X-MICROSOFT-CDO-ALLDAYEVENT:TRUE
DTSTAMP:20260422T132534Z
END:VEVENT
END:VCALENDAR