BEGIN:VCALENDAR
VERSION:2.0
PRODID:$page->getSiteName()
X-PUBLISHED-TTL:P1W
BEGIN:VEVENT
UID:69e6f47b95cad
DTSTART;VALUE=DATE:20230510
SEQUENCE:0
TRANSP:OPAQUE
URL:https://www.iislafe.es/va/actualitat/actes/413/a-new-biomedical-researc
 h-era-the-resolution-revolution-with-10x-genomics-single-cell-amp-spatial-
 multiomics
LOCATION:Auditórium
SUMMARY:A new Biomedical Research Era: the resolution revolution with 10X G
 enomics single cell &amp\; spatial multiomics.
CLASS:PUBLIC
DESCRIPTION:INSCRIPCIONES
X-MICROSOFT-CDO-ALLDAYEVENT:TRUE
DTSTAMP:20260421T055227Z
END:VEVENT
END:VCALENDAR