BEGIN:VCALENDAR
VERSION:2.0
PRODID:$page->getSiteName()
X-PUBLISHED-TTL:P1W
BEGIN:VEVENT
UID:69e6ed0b069a9
DTSTART;VALUE=DATE:20230524
SEQUENCE:0
TRANSP:OPAQUE
URL:https://www.iislafe.es/va/actualitat/actes/415/elaboracion-de-un-protoc
 olo-nacional-en-dosimetria-biologica
LOCATION:Torre A
SUMMARY:Elaboración de un protocolo nacional en dosimetría biológica
CLASS:PUBLIC
DESCRIPTION:Proyecto subvencionado por el Consejo de Seguridad Nacional
X-MICROSOFT-CDO-ALLDAYEVENT:TRUE
DTSTAMP:20260421T052043Z
END:VEVENT
END:VCALENDAR