BEGIN:VCALENDAR
VERSION:2.0
PRODID:$page->getSiteName()
X-PUBLISHED-TTL:P1W
BEGIN:VEVENT
UID:69e56638ea022
DTSTART;VALUE=DATE:20230627
SEQUENCE:0
TRANSP:OPAQUE
URL:https://www.iislafe.es/va/actualitat/actes/420/taller-riesgos-psicosoci
 ales-acoso-psicologico
LOCATION:Torre A - Sala 3
SUMMARY:Taller Riesgos psicosociales: Acoso Psicológico
CLASS:PUBLIC
DESCRIPTION:Para toda la plantilla
X-MICROSOFT-CDO-ALLDAYEVENT:TRUE
DTSTAMP:20260420T013312Z
END:VEVENT
END:VCALENDAR