BEGIN:VCALENDAR
VERSION:2.0
PRODID:$page->getSiteName()
X-PUBLISHED-TTL:P1W
BEGIN:VEVENT
UID:69ea8ce702d3a
DTSTART;VALUE=DATE:20230929
SEQUENCE:0
TRANSP:OPAQUE
URL:https://www.iislafe.es/va/actualitat/actes/445/mednight-2023-noche-euro
 pea-de-los-investigadores
LOCATION:Tinglado 2 Puerto de Valencia
SUMMARY:MEDNIGHT 2023 | Noche Europea de los Investigadores
CLASS:PUBLIC
DESCRIPTION:Un equipo de científicas divulgadoras del IIS La Fe se une al 
 evento anual MEDNIGHT 2023 | Noche Europea de los Investigadores con una o
 ferta de talleres y actividades para todos los públicos.
X-MICROSOFT-CDO-ALLDAYEVENT:TRUE
DTSTAMP:20260423T231935Z
END:VEVENT
END:VCALENDAR