BEGIN:VCALENDAR
VERSION:2.0
PRODID:$page->getSiteName()
X-PUBLISHED-TTL:P1W
BEGIN:VEVENT
UID:69e83e20412ba
DTSTART;VALUE=DATE:20231027
SEQUENCE:0
TRANSP:OPAQUE
URL:https://www.iislafe.es/va/actualitat/actes/447/vila-real-por-la-ciencia
 -y-la-innovacion-la-investigacion-como-cura-para-millones
LOCATION:Auditori Municipal de Vila-real
SUMMARY:Vila-real por la ciencia y la innovación: la investigación como c
 ura para millones
CLASS:PUBLIC
DESCRIPTION:El congreso \"Vila-real por la ciencia y la innovación: la in
 vestigación como cura para millones\" que organiza el Ayuntamiento de Vi
 la-real\, contará con las ponencias de investigadores de reconocido prest
 igio nacional e internacional de diferentes disciplinas como José Alcamí
  (Instituto de Salud Carlos III)\, Juan Vílchez (IIS La Fe de València)\
 , Rubén Artero (Universitat de València)\, Javier Poyatos y Alicia Novel
 la (IIS La Fe de València)\, María Jesús Vicent (Centro de Investigaci
 ón Príncipe Felipe)\, Marian Corral (Asociación AELMHU) e Inés de la R
 iba (Sarepta Therapeutics).
X-MICROSOFT-CDO-ALLDAYEVENT:TRUE
DTSTAMP:20260422T051856Z
END:VEVENT
END:VCALENDAR