BEGIN:VCALENDAR
VERSION:2.0
PRODID:$page->getSiteName()
X-PUBLISHED-TTL:P1W
BEGIN:VEVENT
UID:69ea6e484c097
DTSTART;VALUE=DATE:20231103
SEQUENCE:0
TRANSP:OPAQUE
URL:https://www.iislafe.es/va/actualitat/actes/450/development-of-new-bioin
 formatic-tools-to-improve-mass-spectrometry-based-analysis-of-the-lipidome
LOCATION:Auditórium
SUMMARY:Development of new bioinformatic tools to improve mass spectrometry
 -based analysis of the lipidome
CLASS:PUBLIC
DESCRIPTION:Doctoranda: Maribel Alcoriza Balaguer
Dirigida por:  Dr. Agust
 ín Lahoz Rodríguez

Unidad de Biomarcadores y Medicina de Precisión
X-MICROSOFT-CDO-ALLDAYEVENT:TRUE
DTSTAMP:20260423T210856Z
END:VEVENT
END:VCALENDAR