BEGIN:VCALENDAR
VERSION:2.0
PRODID:$page->getSiteName()
X-PUBLISHED-TTL:P1W
BEGIN:VEVENT
UID:69e83edb2a659
DTSTART;VALUE=DATE:20231113
SEQUENCE:0
TRANSP:OPAQUE
URL:https://www.iislafe.es/va/actualitat/actes/454/metabolomic-and-lipidomi
 c-approaches-for-fact-based-nutrition-assessment-in-infants-and-lactating-
 mothers
LOCATION:Auditórium
SUMMARY:Metabolomic and lipidomic approaches for fact-based nutrition asses
 sment in infants and lactating mothers
CLASS:PUBLIC
DESCRIPTION:Doctoranda: Victoria Ramos García
Dirigida por:  Dra. Julia K
 uligowski y Dra. Isabel Ten Doménech

Grupo de Investigación en Perinat
 ología
X-MICROSOFT-CDO-ALLDAYEVENT:TRUE
DTSTAMP:20260422T052203Z
END:VEVENT
END:VCALENDAR