BEGIN:VCALENDAR
VERSION:2.0
PRODID:$page->getSiteName()
X-PUBLISHED-TTL:P1W
BEGIN:VEVENT
UID:69e9e32e98c82
DTSTART;VALUE=DATE:20241030
SEQUENCE:0
TRANSP:OPAQUE
URL:https://www.iislafe.es/va/actualitat/actes/493/miercoles-innovadores-20
 24-sesion-4-como-trazar-el-roadmap-regulatorio-para-medical-devices-y-disp
 ositivos-medicos-e-in-vitro
LOCATION:Online
SUMMARY:MIÉRCOLES INNOVADORES 2024 | Sesión 4: ¿Cómo trazar el Roadmap 
 Regulatorio para Medical Devices y Dispositivos Médicos e In Vitro?
CLASS:PUBLIC
DESCRIPTION:Ponente: Viromii S.L.

INSCRIPCIÓN OBLIGATORIA
X-MICROSOFT-CDO-ALLDAYEVENT:TRUE
DTSTAMP:20260423T111526Z
END:VEVENT
END:VCALENDAR