BEGIN:VCALENDAR
VERSION:2.0
PRODID:$page->getSiteName()
X-PUBLISHED-TTL:P1W
BEGIN:VEVENT
UID:69e9e2c8be87b
DTSTART;VALUE=DATE:20240925
SEQUENCE:0
TRANSP:OPAQUE
URL:https://www.iislafe.es/va/actualitat/actes/495/miercoles-innovadores-20
 24-sesion-2-desarrollo-empresarial-en-biotecnologia-estrategias-para-el-ex
 ito
LOCATION:Online
SUMMARY:MIÉRCOLES INNOVADORES 2024 | Sesión 2: Desarrollo Empresarial en 
 Biotecnología: Estrategias para el Éxito
CLASS:PUBLIC
DESCRIPTION:Ponente: Josep Lluís Falcó. Genesis BIOMED.

INSCRIPCIÓN OBL
 IGATORIA
X-MICROSOFT-CDO-ALLDAYEVENT:TRUE
DTSTAMP:20260423T111344Z
END:VEVENT
END:VCALENDAR