BEGIN:VCALENDAR
VERSION:2.0
PRODID:$page->getSiteName()
X-PUBLISHED-TTL:P1W
BEGIN:VEVENT
UID:69ea9553079fe
DTSTART;VALUE=DATE:20260302
SEQUENCE:0
TRANSP:OPAQUE
URL:https://www.iislafe.es/va/actualitat/actes/639/integracion-social-y-ame
 -un-enfoque-multidisciplinar
LOCATION:Auditorio IIS La Fe (torre A)
SUMMARY:Integración Social y AME: Un enfoque multidisciplinar
CLASS:PUBLIC
DESCRIPTION:Organiza: Juan Francisco Vázquez Costa\, neurólogo\, Hospita
 l La Fe.

Modera: José María Millán Salvador. Responsable del grupo de 
 investigación en Biomedicina Molecular y Genómica del IIS La Fe y Direct
 or del CIBERER.
X-MICROSOFT-CDO-ALLDAYEVENT:TRUE
DTSTAMP:20260423T235531Z
END:VEVENT
END:VCALENDAR