BEGIN:VCALENDAR
VERSION:2.0
PRODID:$page->getSiteName()
X-PUBLISHED-TTL:P1W
BEGIN:VEVENT
UID:69ed50f187e40
DTSTART;VALUE=DATE:20160629
SEQUENCE:0
TRANSP:OPAQUE
URL:https://www.iislafe.es/va/actualitat/actes/76/imagen-medica-y-el-cambio
 -de-paradigma-en-la-medicina
LOCATION:Auditorium del IIS La Fe (Torre A)
SUMMARY:Imagen Médica y el Cambio de Paradigma en la Medicina
CLASS:PUBLIC
DESCRIPTION:Nueva jornada del ciclo \"Tu Hospital Investiga para Ti\" que a
 bordará la Imagen \"Médica y el Cambio de Paradigma en la Medicina\". La
 s conferencias están dirigidas a enfermos y familiares con el fin de acer
 carles las últimas investigaciones y avances en el diagnóstico.
X-MICROSOFT-CDO-ALLDAYEVENT:TRUE
DTSTAMP:20260426T014033Z
END:VEVENT
END:VCALENDAR